{
 "currentVersion": 11.3,
 "cimVersion": "3.3.0",
 "serviceDescription": "",
 "mapName": "1978Photography_StatePlane_Inset",
 "description": "",
 "copyrightText": "City of Indianapolis & Marion County, IN",
 "supportsDynamicLayers": true,
 "layers": [
  {
   "id": 0,
   "name": "1978 Aerial Photography Inset",
   "parentLayerId": -1,
   "defaultVisibility": true,
   "subLayerIds": null,
   "minScale": 0,
   "maxScale": 0,
   "type": "Raster Layer",
   "supportsDynamicLegends": true
  }
 ],
 "tables": [],
 "spatialReference": {
  "wkid": 2244,
  "latestWkid": 2965,
  "xyTolerance": 0.003280833333333333,
  "zTolerance": 0.001,
  "mTolerance": 0.001,
  "falseX": -18119800,
  "falseY": -45615400,
  "xyUnits": 3048.0060960121928,
  "falseZ": -100000,
  "zUnits": 10000,
  "falseM": -100000,
  "mUnits": 10000
 },
 "singleFusedMapCache": true,
 "tileInfo": {
  "rows": 256,
  "cols": 256,
  "dpi": 96,
  "format": "MIXED",
  "compressionQuality": 75,
  "origin": {
   "x": -18119800,
   "y": 20012700
  },
  "spatialReference": {
   "wkid": 2244,
   "latestWkid": 2965,
   "xyTolerance": 0.003280833333333333,
   "zTolerance": 2.0E-4,
   "mTolerance": 2.0E-4,
   "falseX": -18119800,
   "falseY": -45615400,
   "xyUnits": 1.3724607682899535E8,
   "falseZ": -100000,
   "zUnits": 10000,
   "falseM": -100000,
   "mUnits": 10000
  },
  "lods": [
   {
    "level": 0,
    "resolution": 868.0555555555555,
    "scale": 1000000
   },
   {
    "level": 1,
    "resolution": 651.0416666666666,
    "scale": 750000
   },
   {
    "level": 2,
    "resolution": 434.02777777777777,
    "scale": 500000
   },
   {
    "level": 3,
    "resolution": 260.41666666666663,
    "scale": 300000
   },
   {
    "level": 4,
    "resolution": 217.01388888888889,
    "scale": 250000
   },
   {
    "level": 5,
    "resolution": 108.50694444444444,
    "scale": 125000
   },
   {
    "level": 6,
    "resolution": 55.55555555555555,
    "scale": 64000
   },
   {
    "level": 7,
    "resolution": 27.777777777777775,
    "scale": 32000
   },
   {
    "level": 8,
    "resolution": 13.888888888888888,
    "scale": 16000
   },
   {
    "level": 9,
    "resolution": 6.944444444444444,
    "scale": 8000
   },
   {
    "level": 10,
    "resolution": 3.472222222222222,
    "scale": 4000
   },
   {
    "level": 11,
    "resolution": 1.736111111111111,
    "scale": 2000
   },
   {
    "level": 12,
    "resolution": 0.8680555555555555,
    "scale": 1000
   },
   {
    "level": 13,
    "resolution": 0.43402777777777773,
    "scale": 500
   }
  ]
 },
 "storageInfo": {
  "storageFormat": "esriMapCacheStorageModeCompactV2",
  "packetSize": 128
 },
 "initialExtent": {
  "xmin": 142154.0117055681,
  "ymin": 1647770.9435603528,
  "xmax": 247844.0697700839,
  "ymax": 1694806.2028345463,
  "spatialReference": {
   "wkid": 2244,
   "latestWkid": 2965,
   "xyTolerance": 0.003280833333333333,
   "zTolerance": 0.001,
   "mTolerance": 0.001,
   "falseX": -18119800,
   "falseY": -45615400,
   "xyUnits": 3048.0060960121928,
   "falseZ": -100000,
   "zUnits": 10000,
   "falseM": -100000,
   "mUnits": 10000
  }
 },
 "fullExtent": {
  "xmin": 171625.290737826,
  "ymin": 1627791.26835874,
  "xmax": 218372.790737826,
  "ymax": 1690591.76835874,
  "spatialReference": {
   "wkid": 2244,
   "latestWkid": 2965,
   "xyTolerance": 0.003280833333333333,
   "zTolerance": 0.001,
   "mTolerance": 0.001,
   "falseX": -18119800,
   "falseY": -45615400,
   "xyUnits": 3048.0060960121928,
   "falseZ": -100000,
   "zUnits": 10000,
   "falseM": -100000,
   "mUnits": 10000
  }
 },
 "datesInUnknownTimezone": false,
 "minScale": 0,
 "maxScale": 0,
 "units": "esriFeet",
 "supportedImageFormatTypes": "PNG32,PNG24,PNG,JPG,DIB,TIFF,EMF,PS,PDF,GIF,SVG,SVGZ,BMP",
 "documentInfo": {
  "Title": "1978Photography_StatePlane_Inset",
  "Author": "",
  "Comments": "",
  "Subject": "Indianapolis/Marion County 1978 Aerial Photography Inset State Plane",
  "Category": "",
  "Version": "3.3.0",
  "AntialiasingMode": "None",
  "TextAntialiasingMode": "Force",
  "Keywords": ""
 },
 "supportsQueryDomains": true,
 "capabilities": "Map,Query,Data",
 "supportedQueryFormats": "JSON, geoJSON, PBF",
 "exportTilesAllowed": false,
 "referenceScale": 0.0,
 "supportsDatumTransformation": true,
 "archivingInfo": {
  "supportsHistoricMoment": false
 },
 "supportsClipping": true,
 "supportsSpatialFilter": true,
 "supportsTimeRelation": true,
 "supportsQueryDataElements": true,
 "mapUnits": {
  "uwkid": 9003
 },
 "maxRecordCount": 1000,
 "maxImageHeight": 4096,
 "maxImageWidth": 4096,
 "supportedExtensions": "KmlServer",
 "serviceItemId": "e7dd8420058b402a9eab3314f1e597c5"
}
