{
 "currentVersion": 11.3,
 "serviceDescription": "PerformanceTesting/Isilon_OpLockEnabled_Imagery",
 "name": "PerformanceTesting/Isilon_OpLockEnabled_Imagery",
 "description": "",
 "extent": {
  "xmin": 185000.00000000745,
  "ymin": 1640000.0000000075,
  "xmax": 195000.00000000745,
  "ymax": 1652500.0000000075,
  "spatialReference": {
   "wkid": 2244,
   "latestWkid": 2965
  }
 },
 "initialExtent": {
  "xmin": 185000.00000000745,
  "ymin": 1640000.0000000075,
  "xmax": 195000.00000000745,
  "ymax": 1652500.0000000075,
  "spatialReference": {
   "wkid": 2244,
   "latestWkid": 2965
  }
 },
 "fullExtent": {
  "xmin": 185000.00000000745,
  "ymin": 1640000.0000000075,
  "xmax": 195000.00000000745,
  "ymax": 1652500.0000000075,
  "spatialReference": {
   "wkid": 2244,
   "latestWkid": 2965
  }
 },
 "sortableFields": "MinPS,MaxPS,LowPS,HighPS,CenterX,CenterY,ZOrder,Shape_Length,Shape_Area",
 "bandCount": 3,
 "pixelType": "U8",
 "minValues": [
  0,
  0,
  0
 ],
 "maxValues": [
  255,
  255,
  255
 ],
 "meanValues": [
  132.51722583399894,
  124.44262513200013,
  99.57749387299994
 ],
 "stdvValues": [
  51.6235910781317,
  50.38982477171446,
  50.42321557103315
 ],
 "hasMultidimensions": false,
 "pixelSizeX": 0.25,
 "pixelSizeY": 0.25,
 "meanPixelSize": 0.07620015240030481,
 "datasetFormat": "AMD",
 "uncompressedSize": 6000000000,
 "blockWidth": 2048,
 "blockHeight": 256,
 "compressionType": "None",
 "bandNames": [
  "Band_1",
  "Band_2",
  "Band_3"
 ],
 "allowCopy": true,
 "allowAnalysis": true,
 "itemAccess": false,
 "inspectionCapabilities": "",
 "minPixelSize": 0.9779240326997694,
 "maxPixelSize": 4005.5768379382553,
 "copyrightText": "",
 "serviceDataType": "esriImageServiceDataTypeRGB",
 "serviceSourceType": "esriImageServiceSourceTypeMosaicDataset",
 "objectIdField": "OBJECTID",
 "fields": [
  {
   "name": "OBJECTID",
   "type": "esriFieldTypeOID",
   "alias": "OBJECTID",
   "domain": null
  },
  {
   "name": "Shape",
   "type": "esriFieldTypeGeometry",
   "alias": "Shape",
   "domain": null
  },
  {
   "name": "Name",
   "type": "esriFieldTypeString",
   "alias": "Name",
   "domain": null,
   "length": 200
  },
  {
   "name": "MinPS",
   "type": "esriFieldTypeDouble",
   "alias": "MinPS",
   "domain": null
  },
  {
   "name": "MaxPS",
   "type": "esriFieldTypeDouble",
   "alias": "MaxPS",
   "domain": null
  },
  {
   "name": "LowPS",
   "type": "esriFieldTypeDouble",
   "alias": "LowPS",
   "domain": null
  },
  {
   "name": "HighPS",
   "type": "esriFieldTypeDouble",
   "alias": "HighPS",
   "domain": null
  },
  {
   "name": "Category",
   "type": "esriFieldTypeInteger",
   "alias": "Category",
   "domain": {
    "type": "codedValue",
    "name": "MosaicCatalogItemCategoryDomain",
    "description": "Catalog item categories.",
    "codedValues": [
     {
      "name": "Unknown",
      "code": 0
     },
     {
      "name": "Primary",
      "code": 1
     },
     {
      "name": "Overview",
      "code": 2
     },
     {
      "name": "Unprocessed Overview",
      "code": 3
     },
     {
      "name": "Partial Overview",
      "code": 4
     },
     {
      "name": "Inactive",
      "code": 5
     },
     {
      "name": "Uploaded",
      "code": 253
     },
     {
      "name": "Incomplete",
      "code": 254
     },
     {
      "name": "Custom",
      "code": 255
     }
    ],
    "mergePolicy": "esriMPTDefaultValue",
    "splitPolicy": "esriSPTDefaultValue"
   }
  },
  {
   "name": "Tag",
   "type": "esriFieldTypeString",
   "alias": "Tag",
   "domain": null,
   "length": 100
  },
  {
   "name": "GroupName",
   "type": "esriFieldTypeString",
   "alias": "GroupName",
   "domain": null,
   "length": 100
  },
  {
   "name": "ProductName",
   "type": "esriFieldTypeString",
   "alias": "ProductName",
   "domain": null,
   "length": 100
  },
  {
   "name": "CenterX",
   "type": "esriFieldTypeDouble",
   "alias": "CenterX",
   "domain": null
  },
  {
   "name": "CenterY",
   "type": "esriFieldTypeDouble",
   "alias": "CenterY",
   "domain": null
  },
  {
   "name": "ZOrder",
   "type": "esriFieldTypeInteger",
   "alias": "ZOrder",
   "domain": null
  },
  {
   "name": "Shape_Length",
   "type": "esriFieldTypeDouble",
   "alias": "Shape_Length",
   "domain": null
  },
  {
   "name": "Shape_Area",
   "type": "esriFieldTypeDouble",
   "alias": "Shape_Area",
   "domain": null
  }
 ],
 "capabilities": "Image,Metadata,Catalog",
 "defaultMosaicMethod": "Northwest",
 "allowedMosaicMethods": "NorthWest,Center,LockRaster,ByAttribute,Nadir,Viewpoint,Seamline,None",
 "sortField": "",
 "sortValue": null,
 "sortAscending": true,
 "mosaicOperator": "First",
 "maxDownloadSizeLimit": 2048,
 "defaultCompressionQuality": 75,
 "defaultResamplingMethod": "Bilinear",
 "maxImageHeight": 4100,
 "maxImageWidth": 15000,
 "maxRecordCount": 1000,
 "maxDownloadImageCount": 20,
 "maxMosaicImageCount": 20,
 "singleFusedMapCache": true,
 "tileInfo": {
  "rows": 256,
  "cols": 256,
  "dpi": 96,
  "format": "PNG",
  "compressionQuality": 0,
  "origin": {
   "x": -3.248560212305686E7,
   "y": 2.0012320828010373E7
  },
  "spatialReference": {
   "wkid": 2244,
   "latestWkid": 2965
  },
  "lods": [
   {
    "level": 0,
    "resolution": 256356.91762804837,
    "scale": 2.953237597550312E8
   },
   {
    "level": 1,
    "resolution": 128178.45881402418,
    "scale": 1.476618798775156E8
   },
   {
    "level": 2,
    "resolution": 64089.22940701209,
    "scale": 7.38309399387578E7
   },
   {
    "level": 3,
    "resolution": 32044.614703506046,
    "scale": 3.69154699693789E7
   },
   {
    "level": 4,
    "resolution": 16022.307351753023,
    "scale": 1.845773498468945E7
   },
   {
    "level": 5,
    "resolution": 8011.153675876511,
    "scale": 9228867.492344726
   },
   {
    "level": 6,
    "resolution": 4005.5768379382557,
    "scale": 4614433.746172363
   },
   {
    "level": 7,
    "resolution": 2002.7884189691279,
    "scale": 2307216.8730861815
   },
   {
    "level": 8,
    "resolution": 1001.3942094845639,
    "scale": 1153608.4365430907
   },
   {
    "level": 9,
    "resolution": 500.69710474228197,
    "scale": 576804.2182715454
   },
   {
    "level": 10,
    "resolution": 250.34855237114098,
    "scale": 288402.1091357727
   },
   {
    "level": 11,
    "resolution": 125.17427618557049,
    "scale": 144201.05456788634
   },
   {
    "level": 12,
    "resolution": 62.587138092785246,
    "scale": 72100.52728394317
   },
   {
    "level": 13,
    "resolution": 31.293569046392623,
    "scale": 36050.263641971585
   },
   {
    "level": 14,
    "resolution": 15.646784523196311,
    "scale": 18025.131820985793
   },
   {
    "level": 15,
    "resolution": 7.823392261598156,
    "scale": 9012.565910492896
   },
   {
    "level": 16,
    "resolution": 3.911696130799078,
    "scale": 4506.282955246448
   },
   {
    "level": 17,
    "resolution": 1.955848065399539,
    "scale": 2253.141477623224
   },
   {
    "level": 18,
    "resolution": 0.9779240326997695,
    "scale": 1126.570738811612
   }
  ]
 },
 "storageInfo": {
  "storageFormat": "esriMapCacheStorageModeCompactV2",
  "packetSize": 128
 },
 "cacheType": "Map",
 "allowRasterFunction": true,
 "rasterFunctionInfos": [
  {
   "name": "None",
   "description": "",
   "help": ""
  }
 ],
 "rasterTypeInfos": [
  {
   "name": "Raster Dataset",
   "description": "Supports all ArcGIS Raster Datasets",
   "help": ""
  }
 ],
 "mensurationCapabilities": "None",
 "hasHistograms": true,
 "hasColormap": false,
 "hasRasterAttributeTable": false,
 "minScale": 4614433.746172363,
 "maxScale": 1126.570738811612,
 "minLOD": 6,
 "maxLOD": 18,
 "exportTilesAllowed": false,
 "supportsStatistics": true,
 "supportsAdvancedQueries": true,
 "editFieldsInfo": null,
 "ownershipBasedAccessControlForRasters": null,
 "allowComputeTiePoints": false,
 "useStandardizedQueries": true,
 "advancedQueryCapabilities": {
  "useStandardizedQueries": true,
  "supportsStatistics": true,
  "supportsOrderBy": true,
  "supportsDistinct": true,
  "supportsPagination": true
 },
 "spatialReference": {
  "wkid": 2244,
  "latestWkid": 2965
 }
}
