View In:
ArcGIS JavaScript
ArcGIS Online Map Viewer
ArcGIS Earth
Service Description: PerformanceTesting/Isilon_OpLockEnabled_Imagery
Name: PerformanceTesting/Isilon_OpLockEnabled_Imagery
Description:
Single Fused Map Cache: true
Tile Info:
- Height: 256
- Width: 256
- DPI: 96
-
Levels of Detail: 19
-
Level ID: 0
[ Start Tile, End Tile ]
- Resolution: 256356.91762804837
- Scale: 2.953237597550312E8
-
Level ID: 1
[ Start Tile, End Tile ]
- Resolution: 128178.45881402418
- Scale: 1.476618798775156E8
-
Level ID: 2
[ Start Tile, End Tile ]
- Resolution: 64089.22940701209
- Scale: 7.38309399387578E7
-
Level ID: 3
[ Start Tile, End Tile ]
- Resolution: 32044.614703506046
- Scale: 3.69154699693789E7
-
Level ID: 4
[ Start Tile, End Tile ]
- Resolution: 16022.307351753023
- Scale: 1.845773498468945E7
-
Level ID: 5
[ Start Tile, End Tile ]
- Resolution: 8011.153675876511
- Scale: 9228867.492344726
-
Level ID: 6
[ Start Tile, End Tile ]
- Resolution: 4005.5768379382557
- Scale: 4614433.746172363
-
Level ID: 7
[ Start Tile, End Tile ]
- Resolution: 2002.7884189691279
- Scale: 2307216.8730861815
-
Level ID: 8
[ Start Tile, End Tile ]
- Resolution: 1001.3942094845639
- Scale: 1153608.4365430907
-
Level ID: 9
[ Start Tile, End Tile ]
- Resolution: 500.69710474228197
- Scale: 576804.2182715454
-
Level ID: 10
[ Start Tile, End Tile ]
- Resolution: 250.34855237114098
- Scale: 288402.1091357727
-
Level ID: 11
[ Start Tile, End Tile ]
- Resolution: 125.17427618557049
- Scale: 144201.05456788634
-
Level ID: 12
[ Start Tile, End Tile ]
- Resolution: 62.587138092785246
- Scale: 72100.52728394317
-
Level ID: 13
[ Start Tile, End Tile ]
- Resolution: 31.293569046392623
- Scale: 36050.263641971585
-
Level ID: 14
[ Start Tile, End Tile ]
- Resolution: 15.646784523196311
- Scale: 18025.131820985793
-
Level ID: 15
[ Start Tile, End Tile ]
- Resolution: 7.823392261598156
- Scale: 9012.565910492896
-
Level ID: 16
[ Start Tile, End Tile ]
- Resolution: 3.911696130799078
- Scale: 4506.282955246448
-
Level ID: 17
[ Start Tile, End Tile ]
- Resolution: 1.955848065399539
- Scale: 2253.141477623224
-
Level ID: 18
[ Start Tile, End Tile ]
- Resolution: 0.9779240326997695
- Scale: 1126.570738811612
- Format: PNG
- Compression Quality: 0.0
- LERC Error: NaN
- Origin: X: -3.248560212305686E7
Y: 2.0012320828010373E7
- Spatial Reference: 2244
(2965)
LatestVCSWkid(0)
Storage Info:
- Storage Format: esriMapCacheStorageModeCompactV2
- Packet Size: 128
Extent:
XMin: 185000.00000000745
YMin: 1640000.0000000075
XMax: 195000.00000000745
YMax: 1652500.0000000075
Spatial Reference: 2244
(2965)
LatestVCSWkid(0)
Initial Extent:
XMin: 185000.00000000745
YMin: 1640000.0000000075
XMax: 195000.00000000745
YMax: 1652500.0000000075
Spatial Reference: 2244
(2965)
LatestVCSWkid(0)
Full Extent:
XMin: 185000.00000000745
YMin: 1640000.0000000075
XMax: 195000.00000000745
YMax: 1652500.0000000075
Spatial Reference: 2244
(2965)
LatestVCSWkid(0)
Pixel Size X: 0.25
Pixel Size Y: 0.25
Band Count: 3
Pixel Type: U8
RasterFunction Infos: {"rasterFunctionInfos": [{
"name": "None",
"description": "",
"help": ""
}]}
Mensuration Capabilities: None
Inspection Capabilities:
Has Histograms: true
Has Colormap: false
Has Multi Dimensions : false
Rendering Rule:
Min Scale: 4614433.746172363
Max Scale: 1126.570738811612
Min LOD: 6
Max LOD: 18
Copyright Text:
Service Data Type: esriImageServiceDataTypeRGB
Min Values: 0, 0, 0
Max Values: 255, 255, 255
Mean Values: 132.51722583399894, 124.44262513200013, 99.57749387299994
Standard Deviation Values: 51.6235910781317, 50.38982477171446, 50.42321557103315
Object ID Field: OBJECTID
Fields:
-
OBJECTID
(
type: esriFieldTypeOID, alias: OBJECTID
)
-
Shape
(
type: esriFieldTypeGeometry, alias: Shape
)
-
Name
(
type: esriFieldTypeString, alias: Name, length: 200
)
-
MinPS
(
type: esriFieldTypeDouble, alias: MinPS
)
-
MaxPS
(
type: esriFieldTypeDouble, alias: MaxPS
)
-
LowPS
(
type: esriFieldTypeDouble, alias: LowPS
)
-
HighPS
(
type: esriFieldTypeDouble, alias: HighPS
)
-
Category
(
type: esriFieldTypeInteger, alias: Category
, Coded Values:
[0: Unknown]
, [1: Primary]
, [2: Overview]
, ...6 more...
)
-
Tag
(
type: esriFieldTypeString, alias: Tag, length: 100
)
-
GroupName
(
type: esriFieldTypeString, alias: GroupName, length: 100
)
-
ProductName
(
type: esriFieldTypeString, alias: ProductName, length: 100
)
-
CenterX
(
type: esriFieldTypeDouble, alias: CenterX
)
-
CenterY
(
type: esriFieldTypeDouble, alias: CenterY
)
-
ZOrder
(
type: esriFieldTypeInteger, alias: ZOrder
)
-
Shape_Length
(
type: esriFieldTypeDouble, alias: Shape_Length
)
-
Shape_Area
(
type: esriFieldTypeDouble, alias: Shape_Area
)
Default Mosaic Method: Northwest
Allowed Mosaic Methods: NorthWest,Center,LockRaster,ByAttribute,Nadir,Viewpoint,Seamline,None
SortField:
SortValue: null
Mosaic Operator: First
Default Compression Quality: 75
Default Resampling Method: Bilinear
Max Record Count: 1000
Max Image Height: 4100
Max Image Width: 15000
Max Download Image Count: 20
Max Mosaic Image Count: 20
Allow Raster Function: true
Allow Copy: true
Allow Analysis: true
Allow Compute TiePoints: false
Supports Statistics: true
Supports Advanced Queries: true
Use StandardizedQueries: true
Raster Type Infos:
Name: Raster Dataset
Description: Supports all ArcGIS Raster Datasets
Help:
Has Raster Attribute Table: false
Edit Fields Info: null
Ownership Based AccessControl For Rasters: null
Child Resources:
Info
Histograms
Statistics
Key Properties
Legend
Raster Function Infos
Supported Operations:
Export Image
Query
Identify
Compute Histograms
Compute Statistics Histograms
Get Samples
Compute Class Statistics
Query GPS Info
Find Images
Image to Map
Map to Image
Measure from Image
Image to Map Multiray
Query Boundary
Compute Pixel Location
Compute Angles
Validate
Project